BEGIN:VCALENDAR
VERSION:2.0
PRODID:-//wp-events-plugin.com//7.2.3.1//EN
TZID:Europe/Paris
X-WR-TIMEZONE:Europe/Paris
BEGIN:VEVENT
UID:149@asgolfsaintaubin.fr
DTSTART;TZID=Europe/Paris:20250405T093000
DTEND;TZID=Europe/Paris:20250405T170000
DTSTAMP:20250319T133221Z
URL:https://www.asgolfsaintaubin.fr/events/championnat-du-club-2025/
SUMMARY:Championnat du Club 2025
DESCRIPTION:Préparez-vous à célébrer le renouveau de la nature sur le g
 reen ! Nous vous invitons ......
ATTACH;FMTTYPE=image/jpeg:https://www.asgolfsaintaubin.fr/wp-content/uploa
 ds/2025/03/Affiche-seule.webp
CATEGORIES:Ouvert à tous
END:VEVENT
BEGIN:VTIMEZONE
TZID:Europe/Paris
X-LIC-LOCATION:Europe/Paris
BEGIN:DAYLIGHT
DTSTART:20250330T030000
TZOFFSETFROM:+0100
TZOFFSETTO:+0200
TZNAME:CEST
END:DAYLIGHT
END:VTIMEZONE
END:VCALENDAR